BEGIN:VCALENDAR
VERSION:2.0
PRODID:-//Summerlyn Community - ECPv4.8.2//NONSGML v1.0//EN
CALSCALE:GREGORIAN
METHOD:PUBLISH
X-WR-CALNAME:Summerlyn Community
X-ORIGINAL-URL:http://www.summerlynnc.org
X-WR-CALDESC:Events for Summerlyn Community
BEGIN:VEVENT
DTSTART;VALUE=DATE:20231014
DTEND;VALUE=DATE:20231016
DTSTAMP:20260422T074143
CREATED:20230908T141503Z
LAST-MODIFIED:20230908T141503Z
UID:2185-1697241600-1697414399@www.summerlynnc.org
SUMMARY:Summerlyn Community Yard Sale
DESCRIPTION:
URL:http://www.summerlynnc.org/event/summerlyn-community-yard-sale/
END:VEVENT
END:VCALENDAR