BEGIN:VCALENDAR
VERSION:2.0
PRODID:-//Summerlyn Community - ECPv4.8.2//NONSGML v1.0//EN
CALSCALE:GREGORIAN
METHOD:PUBLISH
X-WR-CALNAME:Summerlyn Community
X-ORIGINAL-URL:http://www.summerlynnc.org
X-WR-CALDESC:Events for Summerlyn Community
BEGIN:VEVENT
DTSTART;VALUE=DATE:20250426
DTEND;VALUE=DATE:20250428
DTSTAMP:20260421T174429
CREATED:20250407T170758Z
LAST-MODIFIED:20250407T171059Z
UID:2446-1745625600-1745798399@www.summerlynnc.org
SUMMARY:Summerlyn Community Yard Sale 2025
DESCRIPTION:Get ready for our HOA Community Yard Sale!  Come browse\, shop\, and find great deals from your neighbors. Whether you’re looking to declutter or hunt for hidden treasures\, it’s the perfect opportunity to buy\, sell\, and connect with the community. \n
URL:http://www.summerlynnc.org/event/summerlyn-community-yard-sale-2025/
END:VEVENT
END:VCALENDAR