BEGIN:VCALENDAR
VERSION:2.0
PRODID:-//Summerlyn Community - ECPv4.8.2//NONSGML v1.0//EN
CALSCALE:GREGORIAN
METHOD:PUBLISH
X-WR-CALNAME:Summerlyn Community
X-ORIGINAL-URL:http://www.summerlynnc.org
X-WR-CALDESC:Events for Summerlyn Community
BEGIN:VEVENT
DTSTART;TZID=UTC+0:20230819T170000
DTEND;TZID=UTC+0:20230819T200000
DTSTAMP:20260422T094340
CREATED:20230707T165816Z
LAST-MODIFIED:20230707T165816Z
UID:2156-1692464400-1692475200@www.summerlynnc.org
SUMMARY:Music Bingo 2023
DESCRIPTION:The Summerlyn Community is hosting a Music Bingo event on August 19th 2023 from 5pm to 6pm and 7pm to 8pm. \nFood\, beverage\, and snacks will be provided. \n
URL:http://www.summerlynnc.org/event/music-bingo-2023/
END:VEVENT
END:VCALENDAR