BEGIN:VCALENDAR
VERSION:2.0
PRODID:-//Summerlyn Community - ECPv4.8.2//NONSGML v1.0//EN
CALSCALE:GREGORIAN
METHOD:PUBLISH
X-WR-CALNAME:Summerlyn Community
X-ORIGINAL-URL:http://www.summerlynnc.org
X-WR-CALDESC:Events for Summerlyn Community
BEGIN:VEVENT
DTSTART;TZID=UTC+0:20260329T120000
DTEND;TZID=UTC+0:20260329T130000
DTSTAMP:20260421T160123
CREATED:20260318T231459Z
LAST-MODIFIED:20260318T231459Z
UID:2616-1774785600-1774789200@www.summerlynnc.org
SUMMARY:Easter Egg Hunt 2026
DESCRIPTION: \n
URL:http://www.summerlynnc.org/event/easter-egg-hunt-2026/
LOCATION:Summerlyn Community Pool\, 485 Oak Alley Trl\, Clayton\, NC\, 27527
END:VEVENT
END:VCALENDAR