BEGIN:VCALENDAR
VERSION:2.0
PRODID:-//Summerlyn Community - ECPv4.8.2//NONSGML v1.0//EN
CALSCALE:GREGORIAN
METHOD:PUBLISH
X-WR-CALNAME:Summerlyn Community
X-ORIGINAL-URL:http://www.summerlynnc.org
X-WR-CALDESC:Events for Summerlyn Community
BEGIN:VEVENT
DTSTART;TZID=UTC+0:20250419T120000
DTEND;TZID=UTC+0:20250419T140000
DTSTAMP:20260421T192917
CREATED:20250407T170609Z
LAST-MODIFIED:20250407T170609Z
UID:2444-1745064000-1745071200@www.summerlynnc.org
SUMMARY:Easter Egg Hunt 2025
DESCRIPTION:Hop into our HOA Easter Egg Hunt! ✨ Explore the community and hunt for hidden eggs filled with surprises. It’s a fun\, family-friendly event to celebrate the season. Keep your eyes peeled—you never know where an egg might be hiding! \n
URL:http://www.summerlynnc.org/event/easter-egg-hunt-2025/
LOCATION:Summerlyn Community Pool\, 485 Oak Alley Trl\, Clayton\, NC\, 27527
END:VEVENT
END:VCALENDAR