BEGIN:VCALENDAR
VERSION:2.0
PRODID:-//Summerlyn Community - ECPv4.8.2//NONSGML v1.0//EN
CALSCALE:GREGORIAN
METHOD:PUBLISH
X-WR-CALNAME:Summerlyn Community
X-ORIGINAL-URL:http://www.summerlynnc.org
X-WR-CALDESC:Events for Summerlyn Community
BEGIN:VEVENT
DTSTART;TZID=UTC+0:20240330T120000
DTEND;TZID=UTC+0:20240330T140000
DTSTAMP:20260422T022719
CREATED:20240209T221529Z
LAST-MODIFIED:20240209T221529Z
UID:2236-1711800000-1711807200@www.summerlynnc.org
SUMMARY:Easter Egg Hunt 2024
DESCRIPTION: \n
URL:http://www.summerlynnc.org/event/easter-egg-hunt-2024/
LOCATION:Summerlyn Community Pool\, 485 Oak Alley Trl\, Clayton\, NC\, 27527
END:VEVENT
END:VCALENDAR