BEGIN:VCALENDAR
VERSION:2.0
PRODID:-//Summerlyn Community - ECPv4.8.2//NONSGML v1.0//EN
CALSCALE:GREGORIAN
METHOD:PUBLISH
X-WR-CALNAME:Summerlyn Community
X-ORIGINAL-URL:http://www.summerlynnc.org
X-WR-CALDESC:Events for Summerlyn Community
BEGIN:VEVENT
DTSTART;TZID=UTC+0:20250412T110000
DTEND;TZID=UTC+0:20250412T120000
DTSTAMP:20260421T205732
CREATED:20250407T170451Z
LAST-MODIFIED:20250407T170451Z
UID:2442-1744455600-1744459200@www.summerlynnc.org
SUMMARY:Community Clean Up Day (Earth Day Event) 2025
DESCRIPTION:Join us for our HOA Community Clean-Up Day\, an Earth Day event! Help us pick up trash along the trail and in the neighborhood to keep our community clean and green. Gloves and supplies will be provided. Let’s make a difference together! \n
URL:http://www.summerlynnc.org/event/community-clean-up-day-earth-day-event-2025/
LOCATION:Summerlyn Community Pool\, 485 Oak Alley Trl\, Clayton\, NC\, 27527
END:VEVENT
END:VCALENDAR